BEGIN:VCALENDAR
VERSION:2.0
PRODID:-//Umbrella Studio Contemporary Arts - ECPv4.5.1//NONSGML v1.0//EN
CALSCALE:GREGORIAN
METHOD:PUBLISH
X-WR-CALNAME:Umbrella Studio Contemporary Arts
X-ORIGINAL-URL:https://umbrella.org.au
X-WR-CALDESC:Events for Umbrella Studio Contemporary Arts
BEGIN:VEVENT
DTSTART;VALUE=DATE:20201002
DTEND;VALUE=DATE:20201115
DTSTAMP:20210228T172729
CREATED:20200124T062713Z
LAST-MODIFIED:20201001T054626Z
UID:32964-1601596800-1605484799@umbrella.org.au
SUMMARY:10th Compact Prints International Print Exhibition and Exchange
DESCRIPTION:Umbrella is responding to government restrictions for gatherings at this time and visitors must comply with our COVID-19 Safety Plan. Gallery open Tues-Fri 9am-5pm | Sat-Sun 9am-1pm | Gallery closed Mondays\, public holidays and during exhibition install weeks | Shop open during gallery  open hours and Tues-Thurs of install weeks. Follow our social media for updates.\nThe Compact Prints International Print Exhibition and Exchange has been Umbrella Studio’s signature biennial exhibition since 2002. It has evolved into a significant benchmark of international engagement for printmakers across the globe. It is also a fundraising event for Umbrella as a not-for-profit organisation. 2020 marks the 10th iteration of the exhibition.\nDownload the Compact Prints exhibition invitation here.\nExhibition\, Fundraising Auction & Exchange\nRead more details and view the prints here.\nImage: Hilary Warren\, Kelp\, 2020\, Polymer photogravure\, 12 x 12cm.\nExhibitions also on display 2 October - 15 November 2020:\nLynnette Griffiths & Marion Gaemers - Final Curtain | Print Commission 2020 | Gerald Soworka - Chasing Shangri-la | Jack Macale - Ngaraarrdgyie Mohyi Biridu Nigyie Bunuba Grama\n
URL:https://umbrella.org.au/event/compact-prints-2020/
LOCATION:408 Flinders St\, Townsville\, QLD\, 4810\, Australia
CATEGORIES:Exhibitions
ATTACH;FMTTYPE=image/jpeg:https://umbrella.org.au/wp-content/uploads/2020/01/Hilary-Warren_Kelp-e1600136317822.jpg
END:VEVENT
END:VCALENDAR